BEGIN:VCALENDAR
VERSION:2.0
PRODID:-//Berkshires Outside - ECPv6.15.20//NONSGML v1.0//EN
CALSCALE:GREGORIAN
METHOD:PUBLISH
X-WR-CALNAME:Berkshires Outside
X-ORIGINAL-URL:https://berkshiresoutside.org
X-WR-CALDESC:Events for Berkshires Outside
REFRESH-INTERVAL;VALUE=DURATION:PT1H
X-Robots-Tag:noindex
X-PUBLISHED-TTL:PT1H
BEGIN:VTIMEZONE
TZID:America/New_York
BEGIN:DAYLIGHT
TZOFFSETFROM:-0500
TZOFFSETTO:-0400
TZNAME:EDT
DTSTART:20240310T070000
END:DAYLIGHT
BEGIN:STANDARD
TZOFFSETFROM:-0400
TZOFFSETTO:-0500
TZNAME:EST
DTSTART:20241103T060000
END:STANDARD
BEGIN:DAYLIGHT
TZOFFSETFROM:-0500
TZOFFSETTO:-0400
TZNAME:EDT
DTSTART:20250309T070000
END:DAYLIGHT
BEGIN:STANDARD
TZOFFSETFROM:-0400
TZOFFSETTO:-0500
TZNAME:EST
DTSTART:20251102T060000
END:STANDARD
BEGIN:DAYLIGHT
TZOFFSETFROM:-0500
TZOFFSETTO:-0400
TZNAME:EDT
DTSTART:20260308T070000
END:DAYLIGHT
BEGIN:STANDARD
TZOFFSETFROM:-0400
TZOFFSETTO:-0500
TZNAME:EST
DTSTART:20261101T060000
END:STANDARD
END:VTIMEZONE
BEGIN:VEVENT
DTSTART;TZID=America/New_York:20250424T163000
DTEND;TZID=America/New_York:20250424T180000
DTSTAMP:20260424T080523
CREATED:20250407T145528Z
LAST-MODIFIED:20250407T145528Z
UID:4431-1745512200-1745517600@berkshiresoutside.org
SUMMARY:Walks on Stone Hill: Beyond the Cows and the Art
DESCRIPTION:Come explore the other trails on Stone Hill\, in the wooded area beyond the iconic pasture and fancy fences. \nThis is a family and first-timer friendly hike/walk on the main routes in the Stone Hill trail network beyond the Clark Art Institute campus — but we will not ignore the famous panoramic views of Williamstown and the surrounding hills. \nOur route will cover the full range of hiking/walking opportunities available in the area\, so some folks might find short sections somewhat challenging for 15 minutes or so\, but most of the route will be on old roadbeds and fairly flat.  On most of the route the trail tread will have some uneven surfaces (the route is unpaved) and there will be some muddy/wet places and tree roots to walk over from time to time.  If you are a bit unsteady on your feet\, consider bringing a walking stick or hiking poles. \nOur pace will be slow\, and we’ll stop to chat and catch our breath. In all\, we’ll cover about 2 miles of the trail network and you can expect to spend about an hour and half in the woods and fields.  There are “bail out” options that offer a more direct path back to our starting point if your time is limited. \nRegistration required: learn more and sign up here at the event website.
URL:https://berkshiresoutside.org/event/walks-on-stone-hill-beyond-the-cows-and-the-art/
LOCATION:The Lunder Center at Stone Hill\, 225 South Street\, Williamstown\, 01267
ATTACH;FMTTYPE=image/jpeg:https://berkshiresoutside.org/wp-content/uploads/2025/04/Stone-Hill-hike-cover_1200-wide-72-dpi.jpg
ORGANIZER;CN="Williamstown Rural Lands":MAILTO:programs@rurallands.org
END:VEVENT
END:VCALENDAR