BEGIN:VCALENDAR
VERSION:2.0
PRODID:-//Berkshires Outside - ECPv6.15.20//NONSGML v1.0//EN
CALSCALE:GREGORIAN
METHOD:PUBLISH
X-ORIGINAL-URL:https://berkshiresoutside.org
X-WR-CALDESC:Events for Berkshires Outside
REFRESH-INTERVAL;VALUE=DURATION:PT1H
X-Robots-Tag:noindex
X-PUBLISHED-TTL:PT1H
BEGIN:VTIMEZONE
TZID:America/New_York
BEGIN:DAYLIGHT
TZOFFSETFROM:-0500
TZOFFSETTO:-0400
TZNAME:EDT
DTSTART:20250309T070000
END:DAYLIGHT
BEGIN:STANDARD
TZOFFSETFROM:-0400
TZOFFSETTO:-0500
TZNAME:EST
DTSTART:20251102T060000
END:STANDARD
BEGIN:DAYLIGHT
TZOFFSETFROM:-0500
TZOFFSETTO:-0400
TZNAME:EDT
DTSTART:20260308T070000
END:DAYLIGHT
BEGIN:STANDARD
TZOFFSETFROM:-0400
TZOFFSETTO:-0500
TZNAME:EST
DTSTART:20261101T060000
END:STANDARD
BEGIN:DAYLIGHT
TZOFFSETFROM:-0500
TZOFFSETTO:-0400
TZNAME:EDT
DTSTART:20270314T070000
END:DAYLIGHT
BEGIN:STANDARD
TZOFFSETFROM:-0400
TZOFFSETTO:-0500
TZNAME:EST
DTSTART:20271107T060000
END:STANDARD
END:VTIMEZONE
BEGIN:VEVENT
DTSTART;TZID=America/New_York:20260101T130000
DTEND;TZID=America/New_York:20260101T150000
DTSTAMP:20260420T081611
CREATED:20251231T143357Z
LAST-MODIFIED:20251231T143357Z
UID:105337-1767272400-1767279600@berkshiresoutside.org
SUMMARY:REGISTRATION FULL - First Day Hike at Mount Greylock State Reservation
DESCRIPTION:Celebrate the New Year at Mount Greylock State Reservation on a First Day Hike! Meet at the Mount Greylock Visitor Center. Hiking the Bradley Farm Trail\, easy to moderate in difficulty\, with an elevation gain of approximately 450 feet. Along the way\, enjoy beautiful scenery and interpretive stations highlighting natural and cultural history. The hike is approximately 2 miles\, about 1.5 to 2 hours in duration. Dress for the weather\, wear winter boots. Leashed dogs are welcome. \nSpace is limited to 25; registration is required. Before and after the hike\, warm up by the fire inside the Visitor Center. For more information\, please call (413) 499-4262.
URL:https://berkshiresoutside.org/event/registration-full-first-day-hike-at-mount-greylock-state-reservation/
LOCATION:Mount Greylock State Reservation – Visitors Center\, 30 Rockwell Rd.\, Lanesborough\, 01237
END:VEVENT
END:VCALENDAR