BEGIN:VCALENDAR
VERSION:2.0
PRODID:-//Berkshires Outside - ECPv6.15.20//NONSGML v1.0//EN
CALSCALE:GREGORIAN
METHOD:PUBLISH
X-WR-CALNAME:Berkshires Outside
X-ORIGINAL-URL:https://berkshiresoutside.org
X-WR-CALDESC:Events for Berkshires Outside
REFRESH-INTERVAL;VALUE=DURATION:PT1H
X-Robots-Tag:noindex
X-PUBLISHED-TTL:PT1H
BEGIN:VTIMEZONE
TZID:America/New_York
BEGIN:DAYLIGHT
TZOFFSETFROM:-0500
TZOFFSETTO:-0400
TZNAME:EDT
DTSTART:20240310T070000
END:DAYLIGHT
BEGIN:STANDARD
TZOFFSETFROM:-0400
TZOFFSETTO:-0500
TZNAME:EST
DTSTART:20241103T060000
END:STANDARD
BEGIN:DAYLIGHT
TZOFFSETFROM:-0500
TZOFFSETTO:-0400
TZNAME:EDT
DTSTART:20250309T070000
END:DAYLIGHT
BEGIN:STANDARD
TZOFFSETFROM:-0400
TZOFFSETTO:-0500
TZNAME:EST
DTSTART:20251102T060000
END:STANDARD
BEGIN:DAYLIGHT
TZOFFSETFROM:-0500
TZOFFSETTO:-0400
TZNAME:EDT
DTSTART:20260308T070000
END:DAYLIGHT
BEGIN:STANDARD
TZOFFSETFROM:-0400
TZOFFSETTO:-0500
TZNAME:EST
DTSTART:20261101T060000
END:STANDARD
END:VTIMEZONE
BEGIN:VEVENT
DTSTART;TZID=America/New_York:20251026T130000
DTEND;TZID=America/New_York:20251026T163000
DTSTAMP:20260420T124212
CREATED:20251008T151121Z
LAST-MODIFIED:20251008T151121Z
UID:99059-1761483600-1761496200@berkshiresoutside.org
SUMMARY:Whistlers Cathedrals Group Hike of the Keystone Arches
DESCRIPTION:Western Mass Hilltown Hikers Group Hike \nWhistlers Cathedrals \nThe Keystone Arch Bridges \nOctober 26th@1pm \nParking: 325 Middlefield Road Chester 01011 carpool from Parking at Chester Elementary School 42.29793\, -72.98323 \nDirections:  From junction of Rts 20 & 102 in Lee\, take Rt. 20 east and drive 18 miles to the Chester center\, turn left onto Middlefield Road and Chester Elementary School will be on your right after 1.5 miles. \nHike Rating: Moderate 5 miles in and back\, ups and downs\, rocks\, roots and dirt \nCarpool is required from the Chester Elementary School due to lack of parking at the Trailhead.  Carpool will start at 12:15 from the school parking lot. \nConstruction of the 150-mile railroad was completed by 3\,000 laborers in an incredible two and a half years\, opening in 1841. Join us for a Historic narrative by Dave Pierce. Enjoy the incredible narration as Dave tells of the history of the Arch’s creation\, the first cluster of stone arch railroad bridges built in America\, located on the West Branch of the Westfield River. Learn how the stone bridges were built\, visit a quarry\, and the massive “cut”. We will take you up close to all of the stone bridges on the trail including the footpaths over and under the dry laid stone bridges. An optional hike to the Gator Arch will follow. The Chester Railway Station Museum will be open after the hike located at 10 Prospect Street in Chester\, a national historic landmark along with the 65 and 70 foot bridges. \nWe will hike rain or shine. Registration required.  Please Register per car load on https://westernmasshilltownhikers.ticketleap.com Maps and bottled water provided.  Well behaved dogs allowed. Event is volunteer lead. Suggested donation is $15.  More details are on www.hilltownhikers.com .  Please email westernmasshilltownhikers@aol.com or call/text 413-302-0312 if you have any questions.  As always be prepared for rocks\, mud and roots\, bring trekking poles! \nWant to hike every weekend year-round? Become a Hilltown Hiker Member! Get access to our private Messenger Group Text with hike and event announcements that are member exclusive events.  You can sign up on www.HilltownHikers.com. \nFollow us on Facebook\, Instagram\, and YouTube. Tees\, hoodies\, hats\, patches and bags will be for sale by donation at the event.  See all our events\, maps\, blog and photos at www.hilltownhikers.com Please keep our beautiful places clean and carry in and carry out. \n  \n 
URL:https://berkshiresoutside.org/event/whistlers-cathedrals-group-hike-of-the-keystone-arches/
LOCATION:Keystone Arch Bridges Trail\, 325 Middlefield Road\, Chester\, MA\, 01011\, United States
ATTACH;FMTTYPE=image/jpeg:https://berkshiresoutside.org/wp-content/uploads/2025/10/Compress_20240724_074559_9663.jpg
END:VEVENT
END:VCALENDAR